BEGIN:VCALENDAR
VERSION:2.0
PRODID:spatie/icalendar-generator
DESCRIPTION:Events from Brickfield Education Labs Ltd.
X-WR-CALDESC:Events from Brickfield Education Labs Ltd.
REFRESH-INTERVAL;VALUE=DURATION:PT1440M
X-PUBLISHED-TTL:PT1440M
BEGIN:VTIMEZONE
TZID:Europe/London
BEGIN:DAYLIGHT
DTSTART:20250330T010000Z
TZOFFSETFROM:+0000
TZOFFSETTO:+0100
END:DAYLIGHT
BEGIN:STANDARD
DTSTART:20251026T020000Z
TZOFFSETFROM:+0100
TZOFFSETTO:+0000
END:STANDARD
BEGIN:DAYLIGHT
DTSTART:20260329T010000Z
TZOFFSETFROM:+0000
TZOFFSETTO:+0100
END:DAYLIGHT
END:VTIMEZONE
BEGIN:VTIMEZONE
TZID:UTC
BEGIN:STANDARD
DTSTART:20250724T073612Z
TZOFFSETFROM:+0000
TZOFFSETTO:+0000
END:STANDARD
END:VTIMEZONE
BEGIN:VEVENT
UID:666-656
DTSTAMP:20260420T073612Z
SUMMARY:GMT. - Workshop: Web accessibility
LOCATION:Online
ORGANIZER;CN=brickfieldadm:MAILTO:admin@brickfield.ie
DTSTART;TZID=Europe/London:20251210T140000
DTEND;TZID=Europe/London:20251210T153000
X-ALT-DESC;FMTTYPE=TEXT/HTML:<p>Taking the concepts of digital accessibilit
 y and applying this specifically to building web content is important. The
 se guidelines apply as much to content built in courses in different LMSs 
 as to content built in websites like WordPress. This virtual workshop incl
 udes:<br />\n- A sample set of personas and examination of the issues they
  face on the web.<br />\n- Recap on key accessibility aspects in content.<br />\n- A look at different content editors.<br />\n- Key considerations 
 when building Images\, Layout\, Links\, Multimedia\, Tables\, and Text typ
 e content.</p>\n
CATEGORIES:English
URL;VALUE=URI:https://brickfield.ie/mc-events/gmt-workshop-web-accessibilit
 y-11/
METHOD:PUBLISH
END:VEVENT
END:VCALENDAR