BEGIN:VCALENDAR
VERSION:2.0
PRODID:spatie/icalendar-generator
DESCRIPTION:Events from Brickfield Education Labs Ltd.
X-WR-CALDESC:Events from Brickfield Education Labs Ltd.
REFRESH-INTERVAL;VALUE=DURATION:PT1440M
X-PUBLISHED-TTL:PT1440M
BEGIN:VTIMEZONE
TZID:Europe/London
BEGIN:STANDARD
DTSTART:20241027T020000Z
TZOFFSETFROM:+0100
TZOFFSETTO:+0000
END:STANDARD
BEGIN:DAYLIGHT
DTSTART:20250330T010000Z
TZOFFSETFROM:+0000
TZOFFSETTO:+0100
END:DAYLIGHT
BEGIN:STANDARD
DTSTART:20251026T020000Z
TZOFFSETFROM:+0100
TZOFFSETTO:+0000
END:STANDARD
END:VTIMEZONE
BEGIN:VTIMEZONE
TZID:UTC
BEGIN:STANDARD
DTSTART:20250723T162613Z
TZOFFSETFROM:+0000
TZOFFSETTO:+0000
END:STANDARD
END:VTIMEZONE
BEGIN:VEVENT
UID:598-592
DTSTAMP:20260419T162613Z
SUMMARY:CET. - Taller: Accesibilidad para Multimedia
LOCATION:Online
ORGANIZER;CN=brickfieldadm:MAILTO:admin@brickfield.ie
DTSTART;TZID=Europe/London:20250718T150000
DTEND;TZID=Europe/London:20250718T163000
X-ALT-DESC;FMTTYPE=TEXT/HTML:<p>Gran parte del contenido que creamos ahora 
 involucra multimedia\, Vídeos\, Podcasts\, Archivos de audio e imágenes.
  Este taller presenta a los asistentes las diferentes consideraciones a te
 ner en cuenta al crear los diferentes tipos de medios\, entre otras:<br />
 \n- Introducción a un conjunto de personas y revisión de los problemas a
  los que se enfrentan al utilizar distintos media.<br />\n- Revisión de l
 os diferentes tipos de imágenes y cómo garantizar que su uso sea accesib
 le para todos.<br />\n- Breve introducción al audio y video y cómo se pu
 ede agregar video a los cursos online.<br />\n- Primeros pasos con los sub
 títulos y diferentes formas de crearlos.</p>\n
CATEGORIES:Spanish
URL;VALUE=URI:https://brickfield.ie/mc-events/cet-taller-accesibilidad-para
 -multimedia-6/
METHOD:PUBLISH
END:VEVENT
END:VCALENDAR