BEGIN:VCALENDAR
VERSION:2.0
PRODID:spatie/icalendar-generator
DESCRIPTION:Events from Brickfield Education Labs Ltd.
X-WR-CALDESC:Events from Brickfield Education Labs Ltd.
REFRESH-INTERVAL;VALUE=DURATION:PT1440M
X-PUBLISHED-TTL:PT1440M
BEGIN:VTIMEZONE
TZID:Europe/London
BEGIN:DAYLIGHT
DTSTART:20250330T010000Z
TZOFFSETFROM:+0000
TZOFFSETTO:+0100
END:DAYLIGHT
BEGIN:STANDARD
DTSTART:20251026T020000Z
TZOFFSETFROM:+0100
TZOFFSETTO:+0000
END:STANDARD
END:VTIMEZONE
BEGIN:VTIMEZONE
TZID:UTC
BEGIN:STANDARD
DTSTART:20250723T175149Z
TZOFFSETFROM:+0000
TZOFFSETTO:+0000
END:STANDARD
END:VTIMEZONE
BEGIN:VEVENT
UID:597-591
DTSTAMP:20260419T175149Z
SUMMARY:CET. - Taller: Accesibilidad web
LOCATION:Online
ORGANIZER;CN=brickfieldadm:MAILTO:admin@brickfield.ie
DTSTART;TZID=Europe/London:20250822T150000
DTEND;TZID=Europe/London:20250822T163000
X-ALT-DESC;FMTTYPE=TEXT/HTML:<p>Es importante tomar los conceptos de accesi
 bilidad digital y aplicarlos específicamente a la creación de contenido 
 web. Estas pautas se aplican tanto al contenido creado en los cursos en on
 line como al contenido creado en sitios web como WordPress. Este taller vi
 rtual incluye:<br />\n- Un conjunto de muestras de personas y una revisió
 n de los problemas a los que se enfrentan en la web.<br />\n- Resumen de l
 os aspectos clave de accesibilidad en el contenido.<br />\n- Repaso a los 
 editores de contenido.<br />\n- Consideraciones clave al crear imágenes\,
  diseño\, enlaces\, multimedia\, tablas y contenido de tipo texto.</p>\n
CATEGORIES:Spanish
URL;VALUE=URI:https://brickfield.ie/mc-events/cet-taller-accesibilidad-web-
 7/
METHOD:PUBLISH
END:VEVENT
END:VCALENDAR