BEGIN:VCALENDAR
VERSION:2.0
PRODID:spatie/icalendar-generator
DESCRIPTION:Events from Brickfield Education Labs Ltd.
X-WR-CALDESC:Events from Brickfield Education Labs Ltd.
REFRESH-INTERVAL;VALUE=DURATION:PT1440M
X-PUBLISHED-TTL:PT1440M
BEGIN:VTIMEZONE
TZID:Europe/London
BEGIN:STANDARD
DTSTART:20241027T020000Z
TZOFFSETFROM:+0100
TZOFFSETTO:+0000
END:STANDARD
BEGIN:DAYLIGHT
DTSTART:20250330T010000Z
TZOFFSETFROM:+0000
TZOFFSETTO:+0100
END:DAYLIGHT
END:VTIMEZONE
BEGIN:VTIMEZONE
TZID:UTC
BEGIN:STANDARD
DTSTART:20250727T203656Z
TZOFFSETFROM:+0000
TZOFFSETTO:+0000
END:STANDARD
END:VTIMEZONE
BEGIN:VEVENT
UID:450-450
DTSTAMP:20260423T203656Z
SUMMARY:EST. - Workshop: Accessibility in documents
LOCATION:Online
ORGANIZER;CN=brickfieldadm:MAILTO:admin@brickfield.ie
DTSTART;TZID=Europe/London:20250325T190000
DTEND;TZID=Europe/London:20250325T203000
X-ALT-DESC;FMTTYPE=TEXT/HTML:<p>A lot of material created by academic staff
  and provided to and used by students in online courses tend to be either 
 MS Office documents (Word Document. Excel Spreadsheets. PowerPoint Present
 ations) or PDF files – which are often printed or exported versions of t
 he office documents. This session will look at MS Word and PowerPoint (or 
 Google Docs and Google Slides) and how to create better new documents and 
 improve existing documents to provide a better experience for all users. W
 e will also look at some of the other features available in Office 365 (or
  Google) for users.</p>\n
CATEGORIES:English
URL;VALUE=URI:https://brickfield.ie/mc-events/est-workshop-accessibility-in
 -documents-2/
METHOD:PUBLISH
END:VEVENT
END:VCALENDAR