BEGIN:VCALENDAR
VERSION:2.0
PRODID:spatie/icalendar-generator
DESCRIPTION:Events from Brickfield Education Labs Ltd.
X-WR-CALDESC:Events from Brickfield Education Labs Ltd.
REFRESH-INTERVAL;VALUE=DURATION:PT1440M
X-PUBLISHED-TTL:PT1440M
BEGIN:VTIMEZONE
TZID:Europe/London
BEGIN:STANDARD
DTSTART:20251026T020000Z
TZOFFSETFROM:+0100
TZOFFSETTO:+0000
END:STANDARD
BEGIN:DAYLIGHT
DTSTART:20260329T010000Z
TZOFFSETFROM:+0000
TZOFFSETTO:+0100
END:DAYLIGHT
BEGIN:STANDARD
DTSTART:20261025T020000Z
TZOFFSETFROM:+0100
TZOFFSETTO:+0000
END:STANDARD
END:VTIMEZONE
BEGIN:VTIMEZONE
TZID:UTC
BEGIN:STANDARD
DTSTART:20250727T101555Z
TZOFFSETFROM:+0000
TZOFFSETTO:+0000
END:STANDARD
END:VTIMEZONE
BEGIN:VEVENT
UID:776-764
DTSTAMP:20260423T101555Z
SUMMARY:GMT. - Using the Brickfield Accessibility Toolkit
LOCATION:Online
ORGANIZER;CN=brickfieldadm:MAILTO:admin@brickfield.ie
DTSTART;TZID=Europe/London:20260518T153000
DTEND;TZID=Europe/London:20260518T163000
X-ALT-DESC;FMTTYPE=TEXT/HTML:<p>The training will cover the basics of the T
 oolkit usage by faculty and teachers\, including:<br />\n-Analysis<br />\n
 -Reports<br />\n-Content fix wizards<br />\n-Alternate content formats.</p>\n
CATEGORIES:English
URL;VALUE=URI:https://brickfield.ie/mc-events/gmt-using-the-brickfield-acce
 ssibility-toolkit-67/
METHOD:PUBLISH
END:VEVENT
END:VCALENDAR