BEGIN:VCALENDAR
VERSION:2.0
PRODID:spatie/icalendar-generator
DESCRIPTION:Events from Brickfield Education Labs Ltd.
X-WR-CALDESC:Events from Brickfield Education Labs Ltd.
REFRESH-INTERVAL;VALUE=DURATION:PT1440M
X-PUBLISHED-TTL:PT1440M
BEGIN:VTIMEZONE
TZID:Europe/London
BEGIN:STANDARD
DTSTART:20251026T020000Z
TZOFFSETFROM:+0100
TZOFFSETTO:+0000
END:STANDARD
BEGIN:DAYLIGHT
DTSTART:20260329T010000Z
TZOFFSETFROM:+0000
TZOFFSETTO:+0100
END:DAYLIGHT
BEGIN:STANDARD
DTSTART:20261025T020000Z
TZOFFSETFROM:+0100
TZOFFSETTO:+0000
END:STANDARD
END:VTIMEZONE
BEGIN:VTIMEZONE
TZID:UTC
BEGIN:STANDARD
DTSTART:20250726T021603Z
TZOFFSETFROM:+0000
TZOFFSETTO:+0000
END:STANDARD
END:VTIMEZONE
BEGIN:VEVENT
UID:763-751
DTSTAMP:20260422T021603Z
SUMMARY:CET. (9:00 am hora Chile) - Taller: Accesibilidad web
LOCATION:Online
ORGANIZER;CN=brickfieldadm:MAILTO:admin@brickfield.ie
DTSTART;TZID=Europe/London:20260514T150000
DTEND;TZID=Europe/London:20260514T163000
X-ALT-DESC;FMTTYPE=TEXT/HTML:<p>Es importante incorporar los conceptos de a
 ccesibilidad digital y aplicarlos específicamente a la creación de conte
 nido web. Estas pautas se aplican tanto al contenido creado en los cursos 
 online como en sitios web como WordPress. Este taller virtual incluye:<br />\n- Un conjunto de muestras de personas y una revisión de los problemas
  a los que se enfrentan en la web.<br />\n- Resumen de los aspectos clave 
 de accesibilidad en el contenido.<br />\n- Repaso a los editores de conten
 ido.<br />\n- Consideraciones clave al crear imágenes\, diseño\, enlaces
 \, multimedia\, tablas y contenido de tipo texto.</p>\n
CATEGORIES:Spanish
URL;VALUE=URI:https://brickfield.ie/mc-events/cet-900-am-hora-chile-taller-
 accesibilidad-web-2/
METHOD:PUBLISH
END:VEVENT
END:VCALENDAR