BEGIN:VCALENDAR
VERSION:2.0
PRODID:spatie/icalendar-generator
DESCRIPTION:Events from Brickfield Education Labs Ltd.
X-WR-CALDESC:Events from Brickfield Education Labs Ltd.
REFRESH-INTERVAL;VALUE=DURATION:PT1440M
X-PUBLISHED-TTL:PT1440M
BEGIN:VTIMEZONE
TZID:Europe/London
BEGIN:DAYLIGHT
DTSTART:20250330T010000Z
TZOFFSETFROM:+0000
TZOFFSETTO:+0100
END:DAYLIGHT
BEGIN:STANDARD
DTSTART:20251026T020000Z
TZOFFSETFROM:+0100
TZOFFSETTO:+0000
END:STANDARD
BEGIN:DAYLIGHT
DTSTART:20260329T010000Z
TZOFFSETFROM:+0000
TZOFFSETTO:+0100
END:DAYLIGHT
END:VTIMEZONE
BEGIN:VTIMEZONE
TZID:UTC
BEGIN:STANDARD
DTSTART:20250724T002917Z
TZOFFSETFROM:+0000
TZOFFSETTO:+0000
END:STANDARD
END:VTIMEZONE
BEGIN:VEVENT
UID:682-672
DTSTAMP:20260420T002917Z
SUMMARY:CET. (12:30 am hora Chile) - Taller: Accesibilidad en documentos
LOCATION:Online
ORGANIZER;CN=brickfieldadm:MAILTO:admin@brickfield.ie
DTSTART;TZID=Europe/London:20251217T163000
DTEND;TZID=Europe/London:20251217T180000
X-ALT-DESC;FMTTYPE=TEXT/HTML:<p>Gran parte del material creado por el perso
 nal académico y proporcionado y utilizado por los estudiantes en los curs
 os en línea tiende a ser documentos de MS Office (documento de Word\, hoj
 as de cálculo de Excel\, presentaciones de PowerPoint) o archivos PDF\, q
 ue a menudo son versiones impresas o exportadas de los documentos de Offic
 e.</p>\n<p>Esta sesión analizará MS Word y PowerPoint (o Google Docs y G
 oogle Slides) y cómo crear mejores documentos nuevos y mejorar los docume
 ntos existentes para brindar una mejor experiencia a todos los usuarios.  
 También veremos algunas de las otras características disponibles en Offi
 ce 365 (o Google) para los usuarios.</p>\n
CATEGORIES:Spanish
URL;VALUE=URI:https://brickfield.ie/mc-events/cet-1230-am-hora-chile-taller
 -accesibilidad-en-documentos/
METHOD:PUBLISH
END:VEVENT
END:VCALENDAR