BEGIN:VCALENDAR
VERSION:2.0
PRODID:spatie/icalendar-generator
DESCRIPTION:Events from Brickfield Education Labs Ltd.
X-WR-CALDESC:Events from Brickfield Education Labs Ltd.
REFRESH-INTERVAL;VALUE=DURATION:PT1440M
X-PUBLISHED-TTL:PT1440M
BEGIN:VTIMEZONE
TZID:Europe/London
BEGIN:DAYLIGHT
DTSTART:20250330T010000Z
TZOFFSETFROM:+0000
TZOFFSETTO:+0100
END:DAYLIGHT
BEGIN:STANDARD
DTSTART:20251026T020000Z
TZOFFSETFROM:+0100
TZOFFSETTO:+0000
END:STANDARD
BEGIN:DAYLIGHT
DTSTART:20260329T010000Z
TZOFFSETFROM:+0000
TZOFFSETTO:+0100
END:DAYLIGHT
END:VTIMEZONE
BEGIN:VTIMEZONE
TZID:UTC
BEGIN:STANDARD
DTSTART:20250724T015813Z
TZOFFSETFROM:+0000
TZOFFSETTO:+0000
END:STANDARD
END:VTIMEZONE
BEGIN:VEVENT
UID:680-670
DTSTAMP:20260420T015813Z
SUMMARY:CET. (12:30 am hora Chile) - Taller: Accesibilidad para Multimedia
LOCATION:Online
ORGANIZER;CN=brickfieldadm:MAILTO:admin@brickfield.ie
DTSTART;TZID=Europe/London:20251211T163000
DTEND;TZID=Europe/London:20251211T180000
X-ALT-DESC;FMTTYPE=TEXT/HTML:<p>Gran parte del contenido que creamos ahora 
 involucra multimedia\, Vídeos\, Podcasts\, Archivos de audio e imágenes.
  Este taller presenta a los asistentes las diferentes consideraciones a te
 ner en cuenta al crear los diferentes tipos de medios\, entre otras:</p>\n
 <p>Introducción a un conjunto de personas y revisión de los problemas a 
 los que se enfrentan al utilizar distintos media.<br />\nRevisión de los 
 diferentes tipos de imágenes y cómo garantizar que su uso sea accesible 
 para todos.<br />\nBreve introducción al audio y video y cómo se puede a
 gregar video a los cursos online.<br />\nPrimeros pasos con los subtítulo
 s y diferentes formas de crearlos.</p>\n
CATEGORIES:Spanish
URL;VALUE=URI:https://brickfield.ie/mc-events/cet-1230-am-hora-chile-taller
 -accesibilidad-para-multimedia/
METHOD:PUBLISH
END:VEVENT
END:VCALENDAR