BEGIN:VCALENDAR
VERSION:2.0
PRODID:spatie/icalendar-generator
DESCRIPTION:Events from Brickfield Education Labs Ltd.
X-WR-CALDESC:Events from Brickfield Education Labs Ltd.
REFRESH-INTERVAL;VALUE=DURATION:PT1440M
X-PUBLISHED-TTL:PT1440M
BEGIN:VTIMEZONE
TZID:Europe/London
BEGIN:DAYLIGHT
DTSTART:20250330T010000Z
TZOFFSETFROM:+0000
TZOFFSETTO:+0100
END:DAYLIGHT
BEGIN:STANDARD
DTSTART:20251026T020000Z
TZOFFSETFROM:+0100
TZOFFSETTO:+0000
END:STANDARD
BEGIN:DAYLIGHT
DTSTART:20260329T010000Z
TZOFFSETFROM:+0000
TZOFFSETTO:+0100
END:DAYLIGHT
END:VTIMEZONE
BEGIN:VTIMEZONE
TZID:UTC
BEGIN:STANDARD
DTSTART:20250723T221505Z
TZOFFSETFROM:+0000
TZOFFSETTO:+0000
END:STANDARD
END:VTIMEZONE
BEGIN:VEVENT
UID:675-665
DTSTAMP:20260419T221505Z
SUMMARY:CET. (11:00 am hora Chile)- Taller: Introducción a la accesibilida
 d digital
LOCATION:Online
ORGANIZER;CN=brickfieldadm:MAILTO:admin@brickfield.ie
DTSTART;TZID=Europe/London:20251106T150000
DTEND;TZID=Europe/London:20251106T163000
X-ALT-DESC;FMTTYPE=TEXT/HTML:<p>El objetivo de este taller es proporcionar 
 conocimientos básicos sobre discapacidad y accesibilidad digital\, puesto
  que ayuda a impulsar el proyecto de accesibilidad y a saber por qué se n
 ecesita\, así como su importancia. El taller trata los siguientes aspecto
 s:<br />\n- Concepto de discapacidad y accesibilidad.<br />\n- Escenarios 
 permanentes\, temporales y situacionales.<br />\n- La amplia utilidad de l
 os contenidos accesibles.<br />\n- El concepto de personas.<br />\n- Una m
 irada a la accesibilidad en general para los LMS.</p>\n
CATEGORIES:Spanish
URL;VALUE=URI:https://brickfield.ie/mc-events/cet-1100-am-hora-chile-taller
 -introduccion-a-la-accesibilidad-digital/
METHOD:PUBLISH
END:VEVENT
END:VCALENDAR