BEGIN:VCALENDAR
VERSION:2.0
PRODID:spatie/icalendar-generator
DESCRIPTION:Events from Brickfield Education Labs Ltd.
X-WR-CALDESC:Events from Brickfield Education Labs Ltd.
REFRESH-INTERVAL;VALUE=DURATION:PT1440M
X-PUBLISHED-TTL:PT1440M
BEGIN:VTIMEZONE
TZID:Europe/London
BEGIN:STANDARD
DTSTART:20241027T020000Z
TZOFFSETFROM:+0100
TZOFFSETTO:+0000
END:STANDARD
BEGIN:DAYLIGHT
DTSTART:20250330T010000Z
TZOFFSETFROM:+0000
TZOFFSETTO:+0100
END:DAYLIGHT
BEGIN:STANDARD
DTSTART:20251026T020000Z
TZOFFSETFROM:+0100
TZOFFSETTO:+0000
END:STANDARD
END:VTIMEZONE
BEGIN:VTIMEZONE
TZID:UTC
BEGIN:STANDARD
DTSTART:20250723T213140Z
TZOFFSETFROM:+0000
TZOFFSETTO:+0000
END:STANDARD
END:VTIMEZONE
BEGIN:VEVENT
UID:523-523
DTSTAMP:20260419T213140Z
SUMMARY:GMT. - Workshop: Accessibility for Multi-Media
LOCATION:Online
ORGANIZER;CN=brickfieldadm:MAILTO:admin@brickfield.ie
DTSTART;TZID=Europe/London:20250618T140000
DTEND;TZID=Europe/London:20250618T153000
X-ALT-DESC;FMTTYPE=TEXT/HTML:<p>Much of the content we create now involves 
 multimedia\, Videos\, Podcasts\, Audio files and images. This workshop bri
 ngs attendees through the different considerations when creating the diffe
 rent media types\, including: </p>\n<p>Introduction to a set of personas a
 nd examination of the issues they face using media.<br />\nA look at diffe
 rent types of images\, and how to approach ensuring their use is accessibl
 e to all.<br />\nA look at audio and video and how video can be added to o
 nline courses.<br />\nFirst steps with Captions\, and different ways to cr
 eate them.</p>\n
CATEGORIES:English
URL;VALUE=URI:https://brickfield.ie/mc-events/gmt-workshop-accessibility-fo
 r-multi-media-5/
METHOD:PUBLISH
END:VEVENT
END:VCALENDAR