BEGIN:VCALENDAR
VERSION:2.0
PRODID:spatie/icalendar-generator
DESCRIPTION:Events from Brickfield Education Labs Ltd.
X-WR-CALDESC:Events from Brickfield Education Labs Ltd.
REFRESH-INTERVAL;VALUE=DURATION:PT1440M
X-PUBLISHED-TTL:PT1440M
BEGIN:VTIMEZONE
TZID:Europe/London
BEGIN:STANDARD
DTSTART:20241027T020000Z
TZOFFSETFROM:+0100
TZOFFSETTO:+0000
END:STANDARD
BEGIN:DAYLIGHT
DTSTART:20250330T010000Z
TZOFFSETFROM:+0000
TZOFFSETTO:+0100
END:DAYLIGHT
END:VTIMEZONE
BEGIN:VTIMEZONE
TZID:UTC
BEGIN:STANDARD
DTSTART:20250727T102016Z
TZOFFSETFROM:+0000
TZOFFSETTO:+0000
END:STANDARD
END:VTIMEZONE
BEGIN:VEVENT
UID:464-464
DTSTAMP:20260423T102016Z
SUMMARY:GMT. - Using the Brickfield Accessibility Toolkit
LOCATION:Online
ORGANIZER;CN=brickfieldadm:MAILTO:admin@brickfield.ie
DTSTART;TZID=Europe/London:20250331T160000
DTEND;TZID=Europe/London:20250331T170000
X-ALT-DESC;FMTTYPE=TEXT/HTML:<p>This training session is available to staff
  of client institutions.</p>\n<p>The training will cover the basics of the
  Toolkit usage by faculty and teachers including:</p>\n<p>analysis.<br />\
 nreports.<br />\ncontent fix wizards. and<br />\nalternate content formats
 .</p>\n
CATEGORIES:English
URL;VALUE=URI:https://brickfield.ie/mc-events/gmt-using-the-brickfield-acce
 ssibility-toolkit-9/
METHOD:PUBLISH
END:VEVENT
END:VCALENDAR