BEGIN:VCALENDAR
VERSION:2.0
PRODID:spatie/icalendar-generator
DESCRIPTION:Events from Brickfield Education Labs Ltd.
X-WR-CALDESC:Events from Brickfield Education Labs Ltd.
REFRESH-INTERVAL;VALUE=DURATION:PT1440M
X-PUBLISHED-TTL:PT1440M
BEGIN:VTIMEZONE
TZID:Europe/London
BEGIN:STANDARD
DTSTART:20241027T020000Z
TZOFFSETFROM:+0100
TZOFFSETTO:+0000
END:STANDARD
BEGIN:DAYLIGHT
DTSTART:20250330T010000Z
TZOFFSETFROM:+0000
TZOFFSETTO:+0100
END:DAYLIGHT
END:VTIMEZONE
BEGIN:VTIMEZONE
TZID:UTC
BEGIN:STANDARD
DTSTART:20250727T115257Z
TZOFFSETFROM:+0000
TZOFFSETTO:+0000
END:STANDARD
END:VTIMEZONE
BEGIN:VEVENT
UID:459-459
DTSTAMP:20260423T115257Z
SUMMARY:CET. - Cómo usar el Kit de Accesibilidad de Brickfield
LOCATION:Online
ORGANIZER;CN=brickfieldadm:MAILTO:admin@brickfield.ie
DTSTART;TZID=Europe/London:20250331T150000
DTEND;TZID=Europe/London:20250331T160000
X-ALT-DESC;FMTTYPE=TEXT/HTML:<p>Esta sesión de formación está disponible
  para el personal de las instituciones cliente.La formación cubrirá los 
 aspectos básicos del uso del Kit de Accesibilidad por parte del profesora
 do y del personal de administración y servicios incluyendo:análisis. inf
 ormes. asistentes para reparar contenido. formatos de contenido alternativ
 os.</p>\n
CATEGORIES:Spanish
URL;VALUE=URI:https://brickfield.ie/mc-events/cet-como-usar-el-kit-de-acces
 ibilidad-de-brickfield-9/
METHOD:PUBLISH
END:VEVENT
END:VCALENDAR