BEGIN:VCALENDAR
VERSION:2.0
PRODID:spatie/icalendar-generator
DESCRIPTION:Events from Brickfield Education Labs Ltd.
X-WR-CALDESC:Events from Brickfield Education Labs Ltd.
REFRESH-INTERVAL;VALUE=DURATION:PT1440M
X-PUBLISHED-TTL:PT1440M
BEGIN:VTIMEZONE
TZID:Europe/London
BEGIN:STANDARD
DTSTART:20241027T020000Z
TZOFFSETFROM:+0100
TZOFFSETTO:+0000
END:STANDARD
BEGIN:DAYLIGHT
DTSTART:20250330T010000Z
TZOFFSETFROM:+0000
TZOFFSETTO:+0100
END:DAYLIGHT
END:VTIMEZONE
BEGIN:VTIMEZONE
TZID:UTC
BEGIN:STANDARD
DTSTART:20250728T020005Z
TZOFFSETFROM:+0000
TZOFFSETTO:+0000
END:STANDARD
END:VTIMEZONE
BEGIN:VEVENT
UID:453-453
DTSTAMP:20260424T020005Z
SUMMARY:CET. - Taller: Accesibilidad para Multimedia
LOCATION:Online
ORGANIZER;CN=brickfieldadm:MAILTO:admin@brickfield.ie
DTSTART;TZID=Europe/London:20250320T150000
DTEND;TZID=Europe/London:20250320T163000
X-ALT-DESC;FMTTYPE=TEXT/HTML:<p>Gran parte del contenido que creamos ahora 
 involucra multimedia. Vídeos. Podcasts. Archivos de audio e imágenes. Es
 te taller presenta a los asistentes a través de las diferentes considerac
 iones al crear los diferentes tipos de medios. que incluyen:</p>\n<p>Intro
 ducción a un conjunto de personas y examen de los problemas a los que se 
 enfrentan al utilizar distintos medios.<br />\nRevisión de los diferentes
  tipos de imágenes y cómo garantizar que su uso sea accesible para todos
 .<br />\nBreve introducción al audio y video y cómo se puede agregar vid
 eo a los cursos online.<br />\nPrimeros pasos con los subtítulos y difere
 ntes formas de crearlos.</p>\n
CATEGORIES:Spanish
URL;VALUE=URI:https://brickfield.ie/mc-events/cet-taller-accesibilidad-para
 -multimedia-2/
METHOD:PUBLISH
END:VEVENT
END:VCALENDAR