BEGIN:VCALENDAR
VERSION:2.0
PRODID:spatie/icalendar-generator
DESCRIPTION:Events from Brickfield Education Labs Ltd.
X-WR-CALDESC:Events from Brickfield Education Labs Ltd.
REFRESH-INTERVAL;VALUE=DURATION:PT1440M
X-PUBLISHED-TTL:PT1440M
BEGIN:VTIMEZONE
TZID:Europe/London
BEGIN:STANDARD
DTSTART:20241027T020000Z
TZOFFSETFROM:+0100
TZOFFSETTO:+0000
END:STANDARD
BEGIN:DAYLIGHT
DTSTART:20250330T010000Z
TZOFFSETFROM:+0000
TZOFFSETTO:+0100
END:DAYLIGHT
END:VTIMEZONE
BEGIN:VTIMEZONE
TZID:UTC
BEGIN:STANDARD
DTSTART:20250729T000333Z
TZOFFSETFROM:+0000
TZOFFSETTO:+0000
END:STANDARD
END:VTIMEZONE
BEGIN:VEVENT
UID:451-451
DTSTAMP:20260425T000333Z
SUMMARY:CET. - Taller: Introducción a la accesibilidad digital
LOCATION:Online
ORGANIZER;CN=brickfieldadm:MAILTO:admin@brickfield.ie
DTSTART;TZID=Europe/London:20250306T150000
DTEND;TZID=Europe/London:20250306T163000
X-ALT-DESC;FMTTYPE=TEXT/HTML:<p>El objetivo de este taller es proporcionar 
 conocimientos básicos sobre discapacidad y accesibilidad digital ayuda a 
 impulsar el proyecto de accesibilidad y a saber por qué se necesita. así
  como su importancia. El taller trata los siguientes aspectos:</p>\n<p>Con
 ceptos de discapacidad y accesibilidad.<br />\nEscenarios permanentes. tem
 porales y situacionales.<br />\nLa amplia utilidad de los contenidos acces
 ibles.<br />\nEl concepto de personas.<br />\nUna mirada a la accesibilida
 d en general para los LMS.</p>\n
CATEGORIES:Spanish
URL;VALUE=URI:https://brickfield.ie/mc-events/cet-taller-introduccion-a-la-
 accesibilidad-digital-2/
METHOD:PUBLISH
END:VEVENT
END:VCALENDAR